BEGIN:VCALENDAR
VERSION:2.0
PRODID:-//British International School - ECPv6.15.20//NONSGML v1.0//EN
CALSCALE:GREGORIAN
METHOD:PUBLISH
X-WR-CALNAME:British International School
X-ORIGINAL-URL:https://bisghana.com.gh
X-WR-CALDESC:Events for British International School
REFRESH-INTERVAL;VALUE=DURATION:PT1H
X-Robots-Tag:noindex
X-PUBLISHED-TTL:PT1H
BEGIN:VTIMEZONE
TZID:UTC
BEGIN:STANDARD
TZOFFSETFROM:+0000
TZOFFSETTO:+0000
TZNAME:UTC
DTSTART:20160101T000000
END:STANDARD
END:VTIMEZONE
BEGIN:VEVENT
DTSTART;VALUE=DATE:20170304
DTEND;VALUE=DATE:20170305
DTSTAMP:20260425T233721
CREATED:20161220T061109Z
LAST-MODIFIED:20170331T145644Z
UID:1996-1488585600-1488671999@bisghana.com.gh
SUMMARY:Sponsored Health Walk (Primary & Secondary Students\, Staff and Parents)
DESCRIPTION:
URL:https://bisghana.com.gh/event/sponsored-health-walk-pry-sec-students-staff-and-parents/
ATTACH;FMTTYPE=image/jpeg:https://bisghana.com.gh/wp-content/uploads/2016/12/Rep-your-teams-jersey-1-570x570.jpg
END:VEVENT
END:VCALENDAR