BEGIN:VCALENDAR
VERSION:2.0
PRODID:-//British International School - ECPv6.15.20//NONSGML v1.0//EN
CALSCALE:GREGORIAN
METHOD:PUBLISH
X-WR-CALNAME:British International School
X-ORIGINAL-URL:https://bisghana.com.gh
X-WR-CALDESC:Events for British International School
REFRESH-INTERVAL;VALUE=DURATION:PT1H
X-Robots-Tag:noindex
X-PUBLISHED-TTL:PT1H
BEGIN:VTIMEZONE
TZID:UTC
BEGIN:STANDARD
TZOFFSETFROM:+0000
TZOFFSETTO:+0000
TZNAME:UTC
DTSTART:20160101T000000
END:STANDARD
END:VTIMEZONE
BEGIN:VEVENT
DTSTART;TZID=UTC:20170925T080000
DTEND;TZID=UTC:20170930T170000
DTSTAMP:20260425T153511
CREATED:20170918T161209Z
LAST-MODIFIED:20170918T161210Z
UID:2577-1506326400-1506790800@bisghana.com.gh
SUMMARY:British International School @ 10
DESCRIPTION:CONGRATULATIONS!!!!! \nBritish International School @ 10 \nTheme:  A Decade of Excellence – Celebrating our past\, inspiring the future. \nBritish International School\, Ghana (BISGH) is celebrating 10 years of academic excellence! \nSince its inception in 2007\, BISGH has been offering a quality international British Curriculum education to help students grow and develop into well rounded global citizens in a safe and serene environment. \nOn behalf of management we say AYEKOO to our IGSCE and A level Class of 2016/17 for their outstanding performance with 100% pass in their examinations. We wish you more successes in your future endeavors! \nAs part of our anniversary celebrations we respectfully invite you join us from the 25th to the 30th of September\, 2017 at the BISGH state of the art campus\, East Legon Hills. One of the highlights of our anniversary will be a special play written and produced by renowned Ghanaian play write Mr. Ebo Whyte to be performed at the National Theatre. Look out for details soon and don’t miss it!! (Date and Time?) \nADMISSIONS ARE OPENED FOR THE 2017-2018 Academic year\, from Pre-school\, Primary to Secondary. Parents/guardians should call the admissions office for further enquiries on phone numbers +233289554447 +233289554448\, +233243641621 or via email: f.owusu@bisghana.com.gh.. \nKindly note that admission fees are waived as part of our 10th anniversary celebrations. Offer lasts till 31st October\, 2017. Limited spaces available! \n 
URL:https://bisghana.com.gh/event/british-international-school-10/
LOCATION:BIS Auditorium\, British International School\, East Legon Hills\, Ghana
CATEGORIES:Anniversary
ATTACH;FMTTYPE=image/jpeg:https://bisghana.com.gh/wp-content/uploads/2017/09/WhatsApp-Image-2017-09-18-at-12.01.11-PM.jpeg
END:VEVENT
END:VCALENDAR