BEGIN:VCALENDAR
VERSION:2.0
PRODID:-//British International School - ECPv6.15.20//NONSGML v1.0//EN
CALSCALE:GREGORIAN
METHOD:PUBLISH
X-WR-CALNAME:British International School
X-ORIGINAL-URL:https://bisghana.com.gh
X-WR-CALDESC:Events for British International School
REFRESH-INTERVAL;VALUE=DURATION:PT1H
X-Robots-Tag:noindex
X-PUBLISHED-TTL:PT1H
BEGIN:VTIMEZONE
TZID:UTC
BEGIN:STANDARD
TZOFFSETFROM:+0000
TZOFFSETTO:+0000
TZNAME:UTC
DTSTART:20170101T000000
END:STANDARD
END:VTIMEZONE
BEGIN:VEVENT
DTSTART;TZID=UTC:20180715T080000
DTEND;TZID=UTC:20180803T170000
DTSTAMP:20260425T035220
CREATED:20180207T222217Z
LAST-MODIFIED:20180208T130731Z
UID:2624-1531641600-1533315600@bisghana.com.gh
SUMMARY:British International School presents SUMMER CAMP in the UK (PGL)
DESCRIPTION:British International School presents SUMMER CAMP in the UK (PGL)\n\n\n \n\n\nDate: 15TH July to 3RD OF August 2018\n\n\n \n\n\nLet your child have the opportunity to join the UK-PGL summer trip to experience the Thrills\, Challenges and adventures all rolled into one fantastic holiday in the United Kingdom\n\n\n\n\n\nCORE SKILLS:\n\n\n\nCollaboration and communication\nCreativity and imagination\nCritical thinking and problem solving\nDigital literacy\nLeadership and personal development\n\n\n\n \n\n\nCOST: $3\,500\n\n\nThis Includes Visa\, Administrative Fee\, Flight ticket\, Camp Fee & 2 Polo Shirts.\n\n\n \n\n\nAfter this Fantastic Summer Trip\, your child will be counting days until their next PGL Holiday\n\n\nFor Enquiries: +233545098844\, +0233243641621\n\n\nEmail: f.owusu@bisghana.com.gh
URL:https://bisghana.com.gh/event/british-international-school-presents-summer-camp-in-the-uk-pgl/
LOCATION:UK\, United Kingdom
CATEGORIES:Educational Trip
ATTACH;FMTTYPE=image/jpeg:https://bisghana.com.gh/wp-content/uploads/2018/02/e3799806-be30-4a35-a74d-5a0ad4aa201c.jpg
END:VEVENT
END:VCALENDAR