BEGIN:VCALENDAR
VERSION:2.0
PRODID:-//British International School - ECPv6.15.20//NONSGML v1.0//EN
CALSCALE:GREGORIAN
METHOD:PUBLISH
X-ORIGINAL-URL:https://bisghana.com.gh
X-WR-CALDESC:Events for British International School
REFRESH-INTERVAL;VALUE=DURATION:PT1H
X-Robots-Tag:noindex
X-PUBLISHED-TTL:PT1H
BEGIN:VTIMEZONE
TZID:UTC
BEGIN:STANDARD
TZOFFSETFROM:+0000
TZOFFSETTO:+0000
TZNAME:UTC
DTSTART:20170101T000000
END:STANDARD
END:VTIMEZONE
BEGIN:VEVENT
DTSTART;TZID=UTC:20181017T080000
DTEND;TZID=UTC:20181017T170000
DTSTAMP:20260425T000915
CREATED:20180907T121800Z
LAST-MODIFIED:20180907T121800Z
UID:3064-1539763200-1539795600@bisghana.com.gh
SUMMARY:Science - Food and Drugs Board (FDA) Ghana Standards Board (Year 10-13)
DESCRIPTION:Science – Food and Drugs Board (FDA) Ghana Standards Board (Year 10-13)
URL:https://bisghana.com.gh/event/science-food-and-drugs-board-fda-ghana-standards-board-year-10-13/
CATEGORIES:Educational Trip
ATTACH;FMTTYPE=image/png:https://bisghana.com.gh/wp-content/uploads/2018/09/edutrip.png
END:VEVENT
END:VCALENDAR