BEGIN:VCALENDAR
VERSION:2.0
PRODID:-//British International School - ECPv6.15.20//NONSGML v1.0//EN
CALSCALE:GREGORIAN
METHOD:PUBLISH
X-ORIGINAL-URL:https://bisghana.com.gh
X-WR-CALDESC:Events for British International School
REFRESH-INTERVAL;VALUE=DURATION:PT1H
X-Robots-Tag:noindex
X-PUBLISHED-TTL:PT1H
BEGIN:VTIMEZONE
TZID:UTC
BEGIN:STANDARD
TZOFFSETFROM:+0000
TZOFFSETTO:+0000
TZNAME:UTC
DTSTART:20180101T000000
END:STANDARD
END:VTIMEZONE
BEGIN:VEVENT
DTSTART;TZID=UTC:20190315T080000
DTEND;TZID=UTC:20190315T170000
DTSTAMP:20260424T171922
CREATED:20180908T011946Z
LAST-MODIFIED:20180908T011946Z
UID:3090-1552636800-1552669200@bisghana.com.gh
SUMMARY:Science - Cocoa Processing Company (CPC) – Tema (Year 4 - 6)
DESCRIPTION:Science – Cocoa Processing Company (CPC) – Tema (Year 4 – 6)
URL:https://bisghana.com.gh/event/science-cocoa-processing-company-cpc-tema-year-4-6/
CATEGORIES:Educational Trip
ATTACH;FMTTYPE=image/jpeg:https://bisghana.com.gh/wp-content/uploads/2016/12/Classroom-Activities-19.jpg
END:VEVENT
END:VCALENDAR