BEGIN:VCALENDAR
VERSION:2.0
PRODID:-//British International School - ECPv6.15.20//NONSGML v1.0//EN
CALSCALE:GREGORIAN
METHOD:PUBLISH
X-WR-CALNAME:British International School
X-ORIGINAL-URL:https://bisghana.com.gh
X-WR-CALDESC:Events for British International School
REFRESH-INTERVAL;VALUE=DURATION:PT1H
X-Robots-Tag:noindex
X-PUBLISHED-TTL:PT1H
BEGIN:VTIMEZONE
TZID:UTC
BEGIN:STANDARD
TZOFFSETFROM:+0000
TZOFFSETTO:+0000
TZNAME:UTC
DTSTART:20180101T000000
END:STANDARD
END:VTIMEZONE
BEGIN:VEVENT
DTSTART;TZID=UTC:20190701T080000
DTEND;TZID=UTC:20190707T170000
DTSTAMP:20260424T114906
CREATED:20180908T013518Z
LAST-MODIFIED:20180908T013518Z
UID:3102-1561968000-1562518800@bisghana.com.gh
SUMMARY:Discovery - Summer Camp to South Africa (Year 5 - 13)
DESCRIPTION:Discovery – Summer Camp to South Africa (Year 5 – 13)
URL:https://bisghana.com.gh/event/discovery-summer-camp-to-south-africa-year-5-13/
CATEGORIES:Educational Trip
ATTACH;FMTTYPE=image/jpeg:https://bisghana.com.gh/wp-content/uploads/2018/06/20180407_115427-scaled.jpg
END:VEVENT
END:VCALENDAR