BEGIN:VCALENDAR
VERSION:2.0
PRODID:-//British International School - ECPv6.15.20//NONSGML v1.0//EN
CALSCALE:GREGORIAN
METHOD:PUBLISH
X-ORIGINAL-URL:https://bisghana.com.gh
X-WR-CALDESC:Events for British International School
REFRESH-INTERVAL;VALUE=DURATION:PT1H
X-Robots-Tag:noindex
X-PUBLISHED-TTL:PT1H
BEGIN:VTIMEZONE
TZID:UTC
BEGIN:STANDARD
TZOFFSETFROM:+0000
TZOFFSETTO:+0000
TZNAME:UTC
DTSTART:20180101T000000
END:STANDARD
END:VTIMEZONE
BEGIN:VEVENT
DTSTART;VALUE=DATE:20190927
DTEND;VALUE=DATE:20190928
DTSTAMP:20260422T231944
CREATED:20190910T145317Z
LAST-MODIFIED:20190910T145317Z
UID:3372-1569542400-1569628799@bisghana.com.gh
SUMMARY:Parent Meeting (exams) – Y6\, 9\, 11 & 13
DESCRIPTION:
URL:https://bisghana.com.gh/event/parent-meeting-exams-y6-9-11-13/
LOCATION:BIS Auditorium\, British International School\, East Legon Hills\, Ghana
CATEGORIES:PTA
ATTACH;FMTTYPE=image/jpeg:https://bisghana.com.gh/wp-content/uploads/2019/09/pta.jpg
END:VEVENT
END:VCALENDAR