BEGIN:VCALENDAR
VERSION:2.0
PRODID:-//British International School - ECPv6.15.20//NONSGML v1.0//EN
CALSCALE:GREGORIAN
METHOD:PUBLISH
X-WR-CALNAME:British International School
X-ORIGINAL-URL:https://bisghana.com.gh
X-WR-CALDESC:Events for British International School
REFRESH-INTERVAL;VALUE=DURATION:PT1H
X-Robots-Tag:noindex
X-PUBLISHED-TTL:PT1H
BEGIN:VTIMEZONE
TZID:UTC
BEGIN:STANDARD
TZOFFSETFROM:+0000
TZOFFSETTO:+0000
TZNAME:UTC
DTSTART:20180101T000000
END:STANDARD
END:VTIMEZONE
BEGIN:VEVENT
DTSTART;TZID=UTC:20191017T080000
DTEND;TZID=UTC:20191023T170000
DTSTAMP:20260422T184943
CREATED:20190910T150248Z
LAST-MODIFIED:20190910T150248Z
UID:3377-1571299200-1571850000@bisghana.com.gh
SUMMARY:Half term assessment
DESCRIPTION:
URL:https://bisghana.com.gh/event/half-term-assessment/
LOCATION:BIS Auditorium\, British International School\, East Legon Hills\, Ghana
CATEGORIES:Activities
ATTACH;FMTTYPE=image/jpeg:https://bisghana.com.gh/wp-content/uploads/2016/01/IMG-20160503-WA0009.jpg
END:VEVENT
END:VCALENDAR