BEGIN:VCALENDAR
VERSION:2.0
PRODID:-//British International School - ECPv6.15.20//NONSGML v1.0//EN
CALSCALE:GREGORIAN
METHOD:PUBLISH
X-WR-CALNAME:British International School
X-ORIGINAL-URL:https://bisghana.com.gh
X-WR-CALDESC:Events for British International School
REFRESH-INTERVAL;VALUE=DURATION:PT1H
X-Robots-Tag:noindex
X-PUBLISHED-TTL:PT1H
BEGIN:VTIMEZONE
TZID:UTC
BEGIN:STANDARD
TZOFFSETFROM:+0000
TZOFFSETTO:+0000
TZNAME:UTC
DTSTART:20160101T000000
END:STANDARD
END:VTIMEZONE
BEGIN:VEVENT
DTSTART;TZID=UTC:20170710T090000
DTEND;TZID=UTC:20170804T140000
DTSTAMP:20260423T072519
CREATED:20170617T180740Z
LAST-MODIFIED:20170624T193327Z
UID:2512-1499677200-1501855200@bisghana.com.gh
SUMMARY:Summer School 2017
DESCRIPTION:
URL:https://bisghana.com.gh/event/summer-school-2017/
LOCATION:BIS Auditorium\, British International School\, East Legon Hills\, Ghana
CATEGORIES:Summer School
ATTACH;FMTTYPE=image/jpeg:https://bisghana.com.gh/wp-content/uploads/2017/06/Summer.jpeg
END:VEVENT
BEGIN:VEVENT
DTSTART;VALUE=DATE:20170630
DTEND;VALUE=DATE:20170701
DTSTAMP:20260423T072519
CREATED:20170617T181422Z
LAST-MODIFIED:20170617T181422Z
UID:2515-1498780800-1498867199@bisghana.com.gh
SUMMARY:10th Graduation & Anniversary Launch
DESCRIPTION:
URL:https://bisghana.com.gh/event/10th-graduation-anniversary-launch/
LOCATION:BIS Auditorium\, British International School\, East Legon Hills\, Ghana
CATEGORIES:Graduation
ATTACH;FMTTYPE=image/jpeg:https://bisghana.com.gh/wp-content/uploads/2017/06/Graduation.jpeg
END:VEVENT
BEGIN:VEVENT
DTSTART;TZID=UTC:20170524T130000
DTEND;TZID=UTC:20170524T170000
DTSTAMP:20260423T072519
CREATED:20170519T130851Z
LAST-MODIFIED:20170519T130851Z
UID:2504-1495630800-1495645200@bisghana.com.gh
SUMMARY:African Union Day
DESCRIPTION:
URL:https://bisghana.com.gh/event/african-union-day/
LOCATION:BIS Auditorium\, British International School\, East Legon Hills\, Ghana
ATTACH;FMTTYPE=image/jpeg:https://bisghana.com.gh/wp-content/uploads/2017/05/18485743_1694684567216129_3990020031337248652_n-1.jpg
END:VEVENT
BEGIN:VEVENT
DTSTART;TZID=UTC:20170313T080000
DTEND;TZID=UTC:20170331T170000
DTSTAMP:20260423T072519
CREATED:20161220T061426Z
LAST-MODIFIED:20161220T061426Z
UID:1998-1489392000-1490979600@bisghana.com.gh
SUMMARY:CCP Mock Assessment for Yr 9\, 11 and 13
DESCRIPTION:
URL:https://bisghana.com.gh/event/ccp-mock-assessment-for-yr-9-11-and-13/
ATTACH;FMTTYPE=image/jpeg:https://bisghana.com.gh/wp-content/uploads/2016/12/IMG_0368-280x220.jpg
END:VEVENT
BEGIN:VEVENT
DTSTART;VALUE=DATE:20170304
DTEND;VALUE=DATE:20170305
DTSTAMP:20260423T072519
CREATED:20161220T061109Z
LAST-MODIFIED:20170331T145644Z
UID:1996-1488585600-1488671999@bisghana.com.gh
SUMMARY:Sponsored Health Walk (Primary & Secondary Students\, Staff and Parents)
DESCRIPTION:
URL:https://bisghana.com.gh/event/sponsored-health-walk-pry-sec-students-staff-and-parents/
ATTACH;FMTTYPE=image/jpeg:https://bisghana.com.gh/wp-content/uploads/2016/12/Rep-your-teams-jersey-1-570x570.jpg
END:VEVENT
BEGIN:VEVENT
DTSTART;VALUE=DATE:20170303
DTEND;VALUE=DATE:20170304
DTSTAMP:20260423T072519
CREATED:20161220T060143Z
LAST-MODIFIED:20170331T145807Z
UID:1994-1488499200-1488585599@bisghana.com.gh
SUMMARY:Inter schools invitational science and math quiz competition
DESCRIPTION:
URL:https://bisghana.com.gh/event/inter-schools-invitational-science-and-math-quiz-competition/
ATTACH;FMTTYPE=image/jpeg:https://bisghana.com.gh/wp-content/uploads/2016/12/Classroom-Activities-4.jpg
END:VEVENT
BEGIN:VEVENT
DTSTART;VALUE=DATE:20170215
DTEND;VALUE=DATE:20170216
DTSTAMP:20260423T072519
CREATED:20161220T055810Z
LAST-MODIFIED:20170331T150009Z
UID:1992-1487116800-1487203199@bisghana.com.gh
SUMMARY:Projects Day
DESCRIPTION:
URL:https://bisghana.com.gh/event/projects-day/
ATTACH;FMTTYPE=image/jpeg:https://bisghana.com.gh/wp-content/uploads/2016/12/Classroom-Activities-21.jpg
END:VEVENT
BEGIN:VEVENT
DTSTART;TZID=UTC:20170203T083000
DTEND;TZID=UTC:20170203T160000
DTSTAMP:20260423T072519
CREATED:20160128T043014Z
LAST-MODIFIED:20170331T150135Z
UID:1339-1486110600-1486137600@bisghana.com.gh
SUMMARY:Sports Day
DESCRIPTION:
URL:https://bisghana.com.gh/event/sports-day/
ATTACH;FMTTYPE=image/jpeg:https://bisghana.com.gh/wp-content/uploads/2016/12/3H7A1482.jpg
END:VEVENT
END:VCALENDAR