BEGIN:VCALENDAR
VERSION:2.0
PRODID:-//British International School - ECPv6.15.20//NONSGML v1.0//EN
CALSCALE:GREGORIAN
METHOD:PUBLISH
X-ORIGINAL-URL:https://bisghana.com.gh
X-WR-CALDESC:Events for British International School
REFRESH-INTERVAL;VALUE=DURATION:PT1H
X-Robots-Tag:noindex
X-PUBLISHED-TTL:PT1H
BEGIN:VTIMEZONE
TZID:UTC
BEGIN:STANDARD
TZOFFSETFROM:+0000
TZOFFSETTO:+0000
TZNAME:UTC
DTSTART:20180101T000000
END:STANDARD
END:VTIMEZONE
BEGIN:VEVENT
DTSTART;TZID=UTC:20190118T080000
DTEND;TZID=UTC:20190118T170000
DTSTAMP:20260424T184505
CREATED:20180908T010652Z
LAST-MODIFIED:20180908T010652Z
UID:3080-1547798400-1547830800@bisghana.com.gh
SUMMARY:Community Service - Orphanage Visit (SRC)
DESCRIPTION:Community Service – Orphanage Visit (SRC)
URL:https://bisghana.com.gh/event/community-service-orphanage-visit-src/
CATEGORIES:Educational Trip
ATTACH;FMTTYPE=image/jpeg:https://bisghana.com.gh/wp-content/uploads/2016/12/Co-curricula-3.jpg
END:VEVENT
BEGIN:VEVENT
DTSTART;TZID=UTC:20190131T080000
DTEND;TZID=UTC:20190131T170000
DTSTAMP:20260424T184505
CREATED:20180908T010915Z
LAST-MODIFIED:20180908T010915Z
UID:3082-1548921600-1548954000@bisghana.com.gh
SUMMARY:Industrial methods - Unilever Ghana Ltd (YEAR 10 -13)
DESCRIPTION:Industrial methods – Unilever Ghana Ltd (YEAR 10 -13)
URL:https://bisghana.com.gh/event/industrial-methods-unilever-ghana-ltd-year-10-13/
CATEGORIES:Educational Trip
ATTACH;FMTTYPE=image/jpeg:https://bisghana.com.gh/wp-content/uploads/2016/12/Un-Day-2016-9.jpg
END:VEVENT
END:VCALENDAR